BEGIN:VCALENDAR
VERSION:2.0
PRODID:-//wp-events-plugin.com//6.6.5//EN
BEGIN:VEVENT
UID:ad588b09-dd21-4c0c-82d3-a847c1e4e758
DTSTART:20180218T140000Z
DTEND:20180218T210000Z
DTSTAMP:20171213T024003Z
SUMMARY:Après Ski Party
DESCRIPTION:What does the DCUV have that no other Dartmouth Club has?\n\nA SKIWAY and a DCUV MEMBER DISCOUNT!\n\nOn Sunday\, February 18\, 2018\, dues-paying DCUV members are again invited to ski at the undergraduate rate of $20 for the entire day from 9 a.m. to 4 p.m.\n\nBut from 2:00 to 4:00 p.m.\, come up to the Howard Chivers Room in the McLane Family Lodge for free Après Ski BBQ and a beer from Big Fatty’s. There will be other munchables and potables\, too.\n\nDirector of the Dartmouth Skiway Doug Holler will tell us how to run a Skiway.
LOCATION:Chivers Room - Dartmouth Skiway\, 39 Grafton Turnpike\, Lyme\, NH\, 03768\, United States
URL:https://www.dcuv.org/events/apres-ski-party-2018/
END:VEVENT
END:VCALENDAR